BEGIN:VCALENDAR
VERSION:2.0
PRODID:-//Stichting Appollonia - ECPv6.15.20//NONSGML v1.0//EN
CALSCALE:GREGORIAN
METHOD:PUBLISH
X-WR-CALNAME:Stichting Appollonia
X-ORIGINAL-URL:https://appollonia.nl
X-WR-CALDESC:Evenementen voor Stichting Appollonia
REFRESH-INTERVAL;VALUE=DURATION:PT1H
X-Robots-Tag:noindex
X-PUBLISHED-TTL:PT1H
BEGIN:VTIMEZONE
TZID:UTC
BEGIN:STANDARD
TZOFFSETFROM:+0000
TZOFFSETTO:+0000
TZNAME:UTC
DTSTART:20210101T000000
END:STANDARD
END:VTIMEZONE
BEGIN:VEVENT
DTSTART;VALUE=DATE:20250206
DTEND;VALUE=DATE:20250207
DTSTAMP:20260422T003225
CREATED:20241219T091014Z
LAST-MODIFIED:20250321T070850Z
UID:155-1738800000-1738886399@appollonia.nl
SUMMARY:OpCie organiseert: Hoe heurt het eigenlijk?
DESCRIPTION:
URL:https://appollonia.nl/event/opcie-organiseert-hoe-heurt-het-eigenlijk/
LOCATION:Landgoed Zonheuvel\, Amersfoortseweg 98\, Doorn\, 3941 EP\, Nederland
END:VEVENT
BEGIN:VEVENT
DTSTART;VALUE=DATE:20250206
DTEND;VALUE=DATE:20250207
DTSTAMP:20260422T003225
CREATED:20241114T123608Z
LAST-MODIFIED:20250108T132527Z
UID:149-1738800000-1738886399@appollonia.nl
SUMMARY:Appollonialezing 2025
DESCRIPTION:Het thema van de middag is ‘Operationele tandheelkunde’. Gedurende de middag bouwen we dit thema op. KTZAR bd Donald Verschoor zal u meenemen in de NATO-doctrines. LKol Tamara Hoogezand-Walraven gaat als hoofd expertisecentrum van het Geneeskundig Commando\, dieper in op de invloed van de focus op hoofdtaak 1 op het gereedstellen van de operationele gezondheidszorgketen. KLTZ Peter van Gastel zal vervolgens toelichten hoe de Inspectie Militaire Gezondheidszorg toezicht houdt op deze planning en de gereedstelling. Vervolgens zal Kol Emiel Boers (DOPS JMED) de vertaling van deze documenten naar het operationele planningsproces met u delen. De middag wordt afgesloten door onze collega MAJ Fenna Bastiaans\, die haar ervaringen aan boord van ZrMs Karel Doorman gedurende de EU operatie Aspides met u zal delen. \nAccreditatie voor het programma is aangevraagd. \n \n12.00 – 13.00 Lunch\n13.00 – 13.15 Opening Appollonialezing\n13.15 – 13.45 NATO\n13.45 – 14.30 GnkCo\n14.30 – 15.00 IMG\n15.00 – 15.15 Korte pauze / leg stretch\n15.15 – 16.00 JMED\n16.00 – 16.30 Inzet Karel Doorman\n17.30 Aanvang diner
URL:https://appollonia.nl/event/appollonialezing-2025/
LOCATION:Woudschoten Hotel & Conferentiecentrum\, Woudenbergseweg 54\, Zeist\, 3707 HX\, Netherlands
END:VEVENT
BEGIN:VEVENT
DTSTART;VALUE=DATE:20240314
DTEND;VALUE=DATE:20240315
DTSTAMP:20260422T003225
CREATED:20240110T094431Z
LAST-MODIFIED:20240110T094431Z
UID:144-1710374400-1710460799@appollonia.nl
SUMMARY:OPcie Organiseert Appollonia activiteit voor ondersteunend personeel
DESCRIPTION:
URL:https://appollonia.nl/event/opcie-organiseert-appollonia-activiteit-voor-ondersteunend-personeel/
LOCATION:Marine Etablissement Amsterdam\, Kattenburgerstraat 7\, Amsterdam\, 1018 JA
END:VEVENT
BEGIN:VEVENT
DTSTART;VALUE=DATE:20240208
DTEND;VALUE=DATE:20240209
DTSTAMP:20260422T003225
CREATED:20230430T153354Z
LAST-MODIFIED:20231020T142444Z
UID:127-1707350400-1707436799@appollonia.nl
SUMMARY:Appollonialezing 2024
DESCRIPTION:Programma \n12:00 – 13:00 Ontvangst met broodjeslunch\n13:00 – 13:15 Opening door voorzitter\n13:15 – 14:45 Preventie en speeksel \n14:45 – 15:15 Pauze \n15:30 – 16:00 Overbelastingblessures en de rol van speeksel\n16:00 – 17:30 Speeksel en fysieke belasting\n17:30 – 17:45 Afsluiting \nPreventie en speeksel\nProf. dr. Marie-Charlotte Huysmans \n \nMarie-Charlotte Huysmans (1964) is hoogleraar Cariologie en Endodontologie binnen de afdeling Tandheelkunde van het Radboudumc\, Nijmegen. Ze heeft veel gepubliceerd op het gebied van cariologie\, gebitsslijtage en restauratieve tandheelkunde en heeft 23 promovendi begeleid. Haar primaire onderzoeksinteresses zijn diagnose en behandeling van secundaire cariës en gebitsslijtage\, en het gebruik van huisartspraktijkgegevens voor behandelingsevaluatie en -innovatie\, en de mondgezondheid van patiënten die een hematologische kankerbehandeling ondergaan. Ze is de huidige past-president van de European Organisation for Caries Research (ORCA). \nSpeeksel is een van de belangrijkste factoren in het behoud van mondgezondheid. Patiënten met een verlaagde speekselvloed hebben vaak een lagere kwaliteit van leven\, en lopen veel risico op ernstige cariësontwikkeling en verlies van tanden en kiezen. Toch besteden we er als professionals relatief weinig aandacht aan. Deze l ezing gaat in op de belangrijkste oorzaken van droge mond\, en op de gevolgen ervan\, voor mond en gebit. Daarnaast wordt besproken hoe een droge mond te herkennen en de voornaamste speekselfuncties\, flow en pH\, te meten. Tot slot is er veel aandacht voor de mogelijkheden om (de gevolgen van) een droge mond te behandelen en om schade aan he gebit te voorkomen \nOverbelastingblessures en de rol van speeksel\nLTZ 1 (TA) Joran Aalders \nSinds 2015 is Joran Aalders in dienst bij Defensie\, voornamelijk in Den Helder en voor korte periodes ook in andere regio’s. Zijn aandachtsgebieden zijn o.a. preventieve tandheelkunde en medisch-tandheelkundige interactie. Samen met fysiotherapeut William Spinhoven van het Korps Mariniers is hij sinds begin 2023 betrokken bij een onderzoek naar overbelastingblessures en speeksel dat in samenwerking met ACTA wordt uitgevoerd. \nOnze militairen worden door zware oefeningen voorbereid op operationele inzet. Door een disbalans tussen inspanning en ontspanning kunnen tijdens deze oefeningen overbelastingblessures ontstaan. Deze hebben vaak een grote impact hebben op de militair en op de organisatie en worden meestal pas (te) laat gediagnostiseerd. Een vroegere diagnose kan helpen om de ernst van de blessure te beperken en mogelijk zelfs te voorkomen. Analyse van speeksel zou hierbij een rol kunnen spelen. \nSpeeksel en fysieke belasting\nDr. Toon Ligtenberg \nToon Ligtenberg (21-6-1962) studeerde biologie aan de Vrije Universiteit in Amsterdam. Daarna promoveerde hij bij het Academisch Centrum Tandheelkunde op onderzoek naar het effect van speeksel op de kolonisatie van de mond door bacteriën. Na zijn promotie bestudeerde hij verschillende onderwerpen met speeksel steeds als centraal thema. Zo bestudeerde hij het effect van sport op de samenstelling van speeksel. Thans is hij universitair hoofddocent bij orale biochemie. Sinds 1999 organiseert hij elke 3 jaar het European Symposium on Saliva\, een internationaal gewaardeerd symposium over speekselonderzoek. Naast het geven van onderwijs biochemie en speeksel is hij voorzitter van de examencommissie tandheelkunde. \nSport wordt algemeen beschouwd als een gezonde bezigheid en topsporters doen er alles aan om topfit aan de start te verschijnen. Toch zijn topsporters gevoeliger voor luchtweginfecties. Deze verhoogde gevoeligheid voor luchtweginfecties valt samen met veranderingen in de speekselsamenstelling. Ten eerste kan de hoeveelheid speeksel afnemen door overmatige transpiratie en uitdroging. Ten tweede leidt zware training direct tot een verhoging van het eiwitgehalte in speeksel. Beide factoren geven dik slijmerig speeksel wat moeilijker wordt doorgeslikt. Daarnaast leidt zware training tot een verlaging van de concentratie antilichamen in speeksel. De vraag die open blijft staan is of deze veranderingen alleen symptomen zijn van een verlaagde afweer of dat dit één van de oorzaken van meer luchtweginfecties is.
URL:https://appollonia.nl/event/appollonialezing-2024/
LOCATION:Landgoed Zonheuvel\, Amersfoortseweg 98\, Doorn\, 3941 EP\, Nederland
END:VEVENT
BEGIN:VEVENT
DTSTART;VALUE=DATE:20230209
DTEND;VALUE=DATE:20230210
DTSTAMP:20260422T003225
CREATED:20221207T132351Z
LAST-MODIFIED:20230215T074004Z
UID:84-1675900800-1675987199@appollonia.nl
SUMMARY:Appollonialezing 2023
DESCRIPTION:Op 9 februari 2023 vond de Appollonialezing plaats op de Marineclub\, Harsens Schiereiland Den Helder. Het thema van de middag was gebitsslijtage. Prof. Bas Loomans kwam samen met 2 van zijn promovendi: Hilde Bronkhorst en Luuk Crins. De dag werd afgesloten met een gezellige borrel en diner.
URL:https://appollonia.nl/event/appollonialezing-2023/
LOCATION:Marinebasis Den Helder\, Rijkszee- en Marinehaven 1\, Den Helder\, 1781 ZZ\, Nederland
END:VEVENT
BEGIN:VEVENT
DTSTART;VALUE=DATE:20220210
DTEND;VALUE=DATE:20220211
DTSTAMP:20260422T003225
CREATED:20220207T124401Z
LAST-MODIFIED:20221206T142132Z
UID:54-1644451200-1644537599@appollonia.nl
SUMMARY:Appollonialezing 2022
DESCRIPTION:
URL:https://appollonia.nl/event/appollonialezing-2022/
LOCATION:Marinebasis Den Helder\, Rijkszee- en Marinehaven 1\, Den Helder\, 1781 ZZ\, Nederland
END:VEVENT
END:VCALENDAR